BEGIN:VCALENDAR
VERSION:2.0
PRODID:-//Panel Expertos - ECPv4.7.3//NONSGML v1.0//EN
CALSCALE:GREGORIAN
METHOD:PUBLISH
X-WR-CALNAME:Panel Expertos
X-ORIGINAL-URL:https://panelexpertos.cl
X-WR-CALDESC:Eventos para Panel Expertos
BEGIN:VEVENT
DTSTART;TZID=UTC-3:20210407T090000
DTEND;TZID=UTC-3:20210407T130000
DTSTAMP:20260422T160840
CREATED:20210226T142212Z
LAST-MODIFIED:20210226T142212Z
UID:1770-1617786000-1617800400@panelexpertos.cl
SUMMARY:Sesión Especial
DESCRIPTION:
URL:https://panelexpertos.cl/sesion/sesion-especial-103/
END:VEVENT
END:VCALENDAR