BEGIN:VCALENDAR
VERSION:2.0
PRODID:-//Panel Expertos - ECPv4.7.3//NONSGML v1.0//EN
CALSCALE:GREGORIAN
METHOD:PUBLISH
X-WR-CALNAME:Panel Expertos
X-ORIGINAL-URL:https://panelexpertos.cl
X-WR-CALDESC:Eventos para Panel Expertos
BEGIN:VEVENT
DTSTART;TZID=UTC-3:20210414T090000
DTEND;TZID=UTC-3:20210414T130000
DTSTAMP:20260422T161011
CREATED:20210226T142234Z
LAST-MODIFIED:20210226T142234Z
UID:1772-1618390800-1618405200@panelexpertos.cl
SUMMARY:Sesión Especial
DESCRIPTION:
URL:https://panelexpertos.cl/sesion/sesion-especial-104/
END:VEVENT
END:VCALENDAR