BEGIN:VCALENDAR
VERSION:2.0
PRODID:-//Panel Expertos - ECPv4.7.3//NONSGML v1.0//EN
CALSCALE:GREGORIAN
METHOD:PUBLISH
X-WR-CALNAME:Panel Expertos
X-ORIGINAL-URL:https://panelexpertos.cl
X-WR-CALDESC:Eventos para Panel Expertos
BEGIN:VEVENT
DTSTART;TZID=UTC-3:20210428T090000
DTEND;TZID=UTC-3:20210428T130000
DTSTAMP:20260422T142848
CREATED:20210226T142331Z
LAST-MODIFIED:20210226T142338Z
UID:1776-1619600400-1619614800@panelexpertos.cl
SUMMARY:Sesión Especial
DESCRIPTION:
URL:https://panelexpertos.cl/sesion/sesion-especial-106/
END:VEVENT
END:VCALENDAR