BEGIN:VCALENDAR
VERSION:2.0
PRODID:-//Panel Expertos - ECPv4.7.3//NONSGML v1.0//EN
CALSCALE:GREGORIAN
METHOD:PUBLISH
X-WR-CALNAME:Panel Expertos
X-ORIGINAL-URL:https://panelexpertos.cl
X-WR-CALDESC:Eventos para Panel Expertos
BEGIN:VEVENT
DTSTART;TZID=UTC-3:20210526T090000
DTEND;TZID=UTC-3:20210526T130000
DTSTAMP:20260422T142812
CREATED:20210330T194324Z
LAST-MODIFIED:20210330T194331Z
UID:1801-1622019600-1622034000@panelexpertos.cl
SUMMARY:Sesión Especial
DESCRIPTION:
URL:https://panelexpertos.cl/sesion/sesion-especial-110/
END:VEVENT
END:VCALENDAR