BEGIN:VCALENDAR
VERSION:2.0
PRODID:-//Panel Expertos - ECPv4.7.3//NONSGML v1.0//EN
CALSCALE:GREGORIAN
METHOD:PUBLISH
X-WR-CALNAME:Panel Expertos
X-ORIGINAL-URL:https://panelexpertos.cl
X-WR-CALDESC:Eventos para Panel Expertos
BEGIN:VEVENT
DTSTART;TZID=UTC-3:20210602T090000
DTEND;TZID=UTC-3:20210602T130000
DTSTAMP:20260422T125519
CREATED:20210428T135524Z
LAST-MODIFIED:20210428T135524Z
UID:1822-1622624400-1622638800@panelexpertos.cl
SUMMARY:Sesión Especial
DESCRIPTION:
URL:https://panelexpertos.cl/sesion/sesion-especial-111/
END:VEVENT
END:VCALENDAR