BEGIN:VCALENDAR
VERSION:2.0
PRODID:-//Panel Expertos - ECPv4.7.3//NONSGML v1.0//EN
CALSCALE:GREGORIAN
METHOD:PUBLISH
X-WR-CALNAME:Panel Expertos
X-ORIGINAL-URL:https://panelexpertos.cl
X-WR-CALDESC:Eventos para Panel Expertos
BEGIN:VEVENT
DTSTART;TZID=UTC-3:20210714T090000
DTEND;TZID=UTC-3:20210714T130000
DTSTAMP:20260422T112932
CREATED:20210527T190934Z
LAST-MODIFIED:20210527T190934Z
UID:1853-1626253200-1626267600@panelexpertos.cl
SUMMARY:Sesión Especial
DESCRIPTION:
URL:https://panelexpertos.cl/sesion/sesion-especial-117/
END:VEVENT
END:VCALENDAR