BEGIN:VCALENDAR
VERSION:2.0
PRODID:-//Panel Expertos - ECPv4.7.3//NONSGML v1.0//EN
CALSCALE:GREGORIAN
METHOD:PUBLISH
X-WR-CALNAME:Panel Expertos
X-ORIGINAL-URL:https://panelexpertos.cl
X-WR-CALDESC:Eventos para Panel Expertos
BEGIN:VEVENT
DTSTART;TZID=UTC-3:20210721T090000
DTEND;TZID=UTC-3:20210721T130000
DTSTAMP:20260422T113550
CREATED:20210527T191007Z
LAST-MODIFIED:20210527T191007Z
UID:1855-1626858000-1626872400@panelexpertos.cl
SUMMARY:Sesión Especial
DESCRIPTION:
URL:https://panelexpertos.cl/sesion/sesion-especial-118/
END:VEVENT
END:VCALENDAR