BEGIN:VCALENDAR
VERSION:2.0
PRODID:-//Panel Expertos - ECPv4.7.3//NONSGML v1.0//EN
CALSCALE:GREGORIAN
METHOD:PUBLISH
X-WR-CALNAME:Panel Expertos
X-ORIGINAL-URL:https://panelexpertos.cl
X-WR-CALDESC:Eventos para Panel Expertos
BEGIN:VEVENT
DTSTART;TZID=UTC-3:20211027T090000
DTEND;TZID=UTC-3:20211027T130000
DTSTAMP:20260422T081757
CREATED:20210827T142402Z
LAST-MODIFIED:20210827T142408Z
UID:1972-1635325200-1635339600@panelexpertos.cl
SUMMARY:Sesión Especial
DESCRIPTION:
URL:https://panelexpertos.cl/sesion/sesion-especial-132/
END:VEVENT
END:VCALENDAR