BEGIN:VCALENDAR
VERSION:2.0
PRODID:-//Panel Expertos - ECPv4.7.3//NONSGML v1.0//EN
CALSCALE:GREGORIAN
METHOD:PUBLISH
X-WR-CALNAME:Panel Expertos
X-ORIGINAL-URL:https://panelexpertos.cl
X-WR-CALDESC:Eventos para Panel Expertos
BEGIN:VEVENT
DTSTART;TZID=UTC-3:20211110T090000
DTEND;TZID=UTC-3:20211110T130000
DTSTAMP:20260422T070220
CREATED:20210927T154234Z
LAST-MODIFIED:20210927T154234Z
UID:2005-1636534800-1636549200@panelexpertos.cl
SUMMARY:Sesión Especial
DESCRIPTION:
URL:https://panelexpertos.cl/sesion/sesion-especial-134/
END:VEVENT
END:VCALENDAR