BEGIN:VCALENDAR
VERSION:2.0
PRODID:-//Panel Expertos - ECPv4.7.3//NONSGML v1.0//EN
CALSCALE:GREGORIAN
METHOD:PUBLISH
X-WR-CALNAME:Panel Expertos
X-ORIGINAL-URL:https://panelexpertos.cl
X-WR-CALDESC:Eventos para Panel Expertos
BEGIN:VEVENT
DTSTART;TZID=UTC-3:20220209T090000
DTEND;TZID=UTC-3:20220209T130000
DTSTAMP:20260422T001354
CREATED:20220222T113301Z
LAST-MODIFIED:20220222T113301Z
UID:2064-1644397200-1644411600@panelexpertos.cl
SUMMARY:Sesión Especial
DESCRIPTION:
URL:https://panelexpertos.cl/sesion/sesion-especial-147/
END:VEVENT
END:VCALENDAR