BEGIN:VCALENDAR
VERSION:2.0
PRODID:-//Panel Expertos - ECPv4.7.3//NONSGML v1.0//EN
CALSCALE:GREGORIAN
METHOD:PUBLISH
X-WR-CALNAME:Panel Expertos
X-ORIGINAL-URL:https://panelexpertos.cl
X-WR-CALDESC:Eventos para Panel Expertos
BEGIN:VEVENT
DTSTART;TZID=UTC-3:20220216T090000
DTEND;TZID=UTC-3:20220216T130000
DTSTAMP:20260422T014559
CREATED:20220222T113319Z
LAST-MODIFIED:20220222T113319Z
UID:2066-1645002000-1645016400@panelexpertos.cl
SUMMARY:Sesión Especial
DESCRIPTION:
URL:https://panelexpertos.cl/sesion/sesion-especial-148/
END:VEVENT
END:VCALENDAR