BEGIN:VCALENDAR
VERSION:2.0
PRODID:-//Panel Expertos - ECPv4.7.3//NONSGML v1.0//EN
CALSCALE:GREGORIAN
METHOD:PUBLISH
X-WR-CALNAME:Panel Expertos
X-ORIGINAL-URL:https://panelexpertos.cl
X-WR-CALDESC:Eventos para Panel Expertos
BEGIN:VEVENT
DTSTART;TZID=UTC-3:20220803T090000
DTEND;TZID=UTC-3:20220803T130000
DTSTAMP:20260421T142713
CREATED:20220608T165601Z
LAST-MODIFIED:20220608T165601Z
UID:2236-1659517200-1659531600@panelexpertos.cl
SUMMARY:Sesión Especial
DESCRIPTION:
URL:https://panelexpertos.cl/sesion/sesion-especial-172/
END:VEVENT
END:VCALENDAR