BEGIN:VCALENDAR
VERSION:2.0
PRODID:-//Panel Expertos - ECPv4.7.3//NONSGML v1.0//EN
CALSCALE:GREGORIAN
METHOD:PUBLISH
X-WR-CALNAME:Panel Expertos
X-ORIGINAL-URL:https://panelexpertos.cl
X-WR-CALDESC:Eventos para Panel Expertos
BEGIN:VEVENT
DTSTART;TZID=UTC-3:20220907T090000
DTEND;TZID=UTC-3:20220907T130000
DTSTAMP:20260421T131212
CREATED:20220624T153814Z
LAST-MODIFIED:20220624T153814Z
UID:2255-1662541200-1662555600@panelexpertos.cl
SUMMARY:Sesión Especial
DESCRIPTION:
URL:https://panelexpertos.cl/sesion/sesion-especial-177/
END:VEVENT
END:VCALENDAR