BEGIN:VCALENDAR
VERSION:2.0
PRODID:-//Panel Expertos - ECPv4.7.3//NONSGML v1.0//EN
CALSCALE:GREGORIAN
METHOD:PUBLISH
X-WR-CALNAME:Panel Expertos
X-ORIGINAL-URL:https://panelexpertos.cl
X-WR-CALDESC:Eventos para Panel Expertos
BEGIN:VEVENT
DTSTART;TZID=UTC-3:20221012T090000
DTEND;TZID=UTC-3:20221012T130000
DTSTAMP:20260421T114445
CREATED:20220714T124258Z
LAST-MODIFIED:20220714T124258Z
UID:2302-1665565200-1665579600@panelexpertos.cl
SUMMARY:Sesión Especial
DESCRIPTION:
URL:https://panelexpertos.cl/sesion/sesion-especial-182/
END:VEVENT
END:VCALENDAR