BEGIN:VCALENDAR
VERSION:2.0
PRODID:-//Panel Expertos - ECPv4.7.3//NONSGML v1.0//EN
CALSCALE:GREGORIAN
METHOD:PUBLISH
X-WR-CALNAME:Panel Expertos
X-ORIGINAL-URL:https://panelexpertos.cl
X-WR-CALDESC:Eventos para Panel Expertos
BEGIN:VEVENT
DTSTART;TZID=UTC-3:20221123T090000
DTEND;TZID=UTC-3:20221123T130000
DTSTAMP:20260421T102629
CREATED:20220822T140552Z
LAST-MODIFIED:20220822T140552Z
UID:2350-1669194000-1669208400@panelexpertos.cl
SUMMARY:Sesión Especial
DESCRIPTION:
URL:https://panelexpertos.cl/sesion/sesion-especial-186/
END:VEVENT
END:VCALENDAR