BEGIN:VCALENDAR
VERSION:2.0
PRODID:-//Panel Expertos - ECPv4.7.3//NONSGML v1.0//EN
CALSCALE:GREGORIAN
METHOD:PUBLISH
X-WR-CALNAME:Panel Expertos
X-ORIGINAL-URL:https://panelexpertos.cl
X-WR-CALDESC:Eventos para Panel Expertos
BEGIN:VEVENT
DTSTART;TZID=UTC-3:20221207T090000
DTEND;TZID=UTC-3:20221207T130000
DTSTAMP:20260421T090636
CREATED:20220822T140633Z
LAST-MODIFIED:20220822T140633Z
UID:2354-1670403600-1670418000@panelexpertos.cl
SUMMARY:Sesión Especial
DESCRIPTION:
URL:https://panelexpertos.cl/sesion/sesion-especial-188/
END:VEVENT
END:VCALENDAR