BEGIN:VCALENDAR
VERSION:2.0
PRODID:-//Panel Expertos - ECPv4.7.3//NONSGML v1.0//EN
CALSCALE:GREGORIAN
METHOD:PUBLISH
X-WR-CALNAME:Panel Expertos
X-ORIGINAL-URL:https://panelexpertos.cl
X-WR-CALDESC:Eventos para Panel Expertos
BEGIN:VEVENT
DTSTART;TZID=UTC-3:20230222T090000
DTEND;TZID=UTC-3:20230222T130000
DTSTAMP:20260421T053405
CREATED:20240612T150749Z
LAST-MODIFIED:20240612T150749Z
UID:2852-1677056400-1677070800@panelexpertos.cl
SUMMARY:Sesión Especial
DESCRIPTION:
URL:https://panelexpertos.cl/sesion/sesion-especial-200/
END:VEVENT
END:VCALENDAR