BEGIN:VCALENDAR
VERSION:2.0
PRODID:-//Panel Expertos - ECPv4.7.3//NONSGML v1.0//EN
CALSCALE:GREGORIAN
METHOD:PUBLISH
X-WR-CALNAME:Panel Expertos
X-ORIGINAL-URL:https://panelexpertos.cl
X-WR-CALDESC:Eventos para Panel Expertos
BEGIN:VEVENT
DTSTART;TZID=UTC-3:20230426T090000
DTEND;TZID=UTC-3:20230426T130000
DTSTAMP:20260421T022022
CREATED:20240612T151139Z
LAST-MODIFIED:20240612T151139Z
UID:2870-1682499600-1682514000@panelexpertos.cl
SUMMARY:Sesión Especial
DESCRIPTION:
URL:https://panelexpertos.cl/sesion/sesion-especial-209/
END:VEVENT
END:VCALENDAR