BEGIN:VCALENDAR
VERSION:2.0
PRODID:-//Panel Expertos - ECPv4.7.3//NONSGML v1.0//EN
CALSCALE:GREGORIAN
METHOD:PUBLISH
X-WR-CALNAME:Panel Expertos
X-ORIGINAL-URL:https://panelexpertos.cl
X-WR-CALDESC:Eventos para Panel Expertos
BEGIN:VEVENT
DTSTART;TZID=UTC-3:20230920T090000
DTEND;TZID=UTC-3:20230920T130000
DTSTAMP:20260420T181906
CREATED:20240612T152344Z
LAST-MODIFIED:20240612T152344Z
UID:2912-1695200400-1695214800@panelexpertos.cl
SUMMARY:Sesión Especial
DESCRIPTION:
URL:https://panelexpertos.cl/sesion/sesion-especial-230/
END:VEVENT
END:VCALENDAR