BEGIN:VCALENDAR
VERSION:2.0
PRODID:-//Panel Expertos - ECPv4.7.3//NONSGML v1.0//EN
CALSCALE:GREGORIAN
METHOD:PUBLISH
X-WR-CALNAME:Panel Expertos
X-ORIGINAL-URL:https://panelexpertos.cl
X-WR-CALDESC:Eventos para Panel Expertos
BEGIN:VEVENT
DTSTART;TZID=UTC-3:20231122T090000
DTEND;TZID=UTC-3:20231122T130000
DTSTAMP:20260420T145941
CREATED:20240612T152634Z
LAST-MODIFIED:20240612T152634Z
UID:2928-1700643600-1700658000@panelexpertos.cl
SUMMARY:Sesión Especial
DESCRIPTION:
URL:https://panelexpertos.cl/sesion/sesion-especial-238/
END:VEVENT
END:VCALENDAR