BEGIN:VCALENDAR
VERSION:2.0
PRODID:-//Panel Expertos - ECPv4.7.3//NONSGML v1.0//EN
CALSCALE:GREGORIAN
METHOD:PUBLISH
X-WR-CALNAME:Panel Expertos
X-ORIGINAL-URL:https://panelexpertos.cl
X-WR-CALDESC:Eventos para Panel Expertos
BEGIN:VEVENT
DTSTART;TZID=UTC-3:20240117T090000
DTEND;TZID=UTC-3:20240117T130000
DTSTAMP:20260420T132806
CREATED:20240612T153037Z
LAST-MODIFIED:20240612T153037Z
UID:2944-1705482000-1705496400@panelexpertos.cl
SUMMARY:Sesión Especial
DESCRIPTION:
URL:https://panelexpertos.cl/sesion/sesion-especial-246/
END:VEVENT
END:VCALENDAR