BEGIN:VCALENDAR
VERSION:2.0
PRODID:-//Panel Expertos - ECPv4.7.3//NONSGML v1.0//EN
CALSCALE:GREGORIAN
METHOD:PUBLISH
X-WR-CALNAME:Panel Expertos
X-ORIGINAL-URL:https://panelexpertos.cl
X-WR-CALDESC:Eventos para Panel Expertos
BEGIN:VEVENT
DTSTART;TZID=UTC-3:20240515T090000
DTEND;TZID=UTC-3:20240515T130000
DTSTAMP:20260420T064235
CREATED:20240612T164301Z
LAST-MODIFIED:20240612T164301Z
UID:3164-1715763600-1715778000@panelexpertos.cl
SUMMARY:Sesión Especial
DESCRIPTION:
URL:https://panelexpertos.cl/sesion/sesion-especial-261/
END:VEVENT
END:VCALENDAR