BEGIN:VCALENDAR
VERSION:2.0
PRODID:-//Panel Expertos - ECPv4.7.3//NONSGML v1.0//EN
CALSCALE:GREGORIAN
METHOD:PUBLISH
X-WR-CALNAME:Panel Expertos
X-ORIGINAL-URL:https://panelexpertos.cl
X-WR-CALDESC:Eventos para Panel Expertos
BEGIN:VEVENT
DTSTART;TZID=UTC-3:20240529T090000
DTEND;TZID=UTC-3:20240529T130000
DTSTAMP:20260420T030859
CREATED:20240612T164341Z
LAST-MODIFIED:20240612T164341Z
UID:3168-1716973200-1716987600@panelexpertos.cl
SUMMARY:Sesión Especial
DESCRIPTION:
URL:https://panelexpertos.cl/sesion/sesion-especial-263/
END:VEVENT
END:VCALENDAR