BEGIN:VCALENDAR
VERSION:2.0
PRODID:-//Panel Expertos - ECPv4.7.3//NONSGML v1.0//EN
CALSCALE:GREGORIAN
METHOD:PUBLISH
X-WR-CALNAME:Panel Expertos
X-ORIGINAL-URL:https://panelexpertos.cl
X-WR-CALDESC:Eventos para Panel Expertos
BEGIN:VEVENT
DTSTART;TZID=UTC-3:20240301T090000
DTEND;TZID=UTC-3:20240301T130000
DTSTAMP:20260420T083331
CREATED:20240614T154319Z
LAST-MODIFIED:20240614T154319Z
UID:3208-1709283600-1709298000@panelexpertos.cl
SUMMARY:Sesión Especial
DESCRIPTION:
URL:https://panelexpertos.cl/sesion/sesion-especial-282/
END:VEVENT
END:VCALENDAR