BEGIN:VCALENDAR
VERSION:2.0
PRODID:-//Panel Expertos - ECPv4.7.3//NONSGML v1.0//EN
CALSCALE:GREGORIAN
METHOD:PUBLISH
X-WR-CALNAME:Panel Expertos
X-ORIGINAL-URL:https://panelexpertos.cl
X-WR-CALDESC:Eventos para Panel Expertos
BEGIN:VEVENT
DTSTART;TZID=UTC-3:20240307T090000
DTEND;TZID=UTC-3:20240307T130000
DTSTAMP:20260420T082434
CREATED:20240614T154416Z
LAST-MODIFIED:20240614T154416Z
UID:3212-1709802000-1709816400@panelexpertos.cl
SUMMARY:Sesión Especial
DESCRIPTION:
URL:https://panelexpertos.cl/sesion/sesion-especial-284/
END:VEVENT
END:VCALENDAR