BEGIN:VCALENDAR
VERSION:2.0
PRODID:-//Panel Expertos - ECPv4.7.3//NONSGML v1.0//EN
CALSCALE:GREGORIAN
METHOD:PUBLISH
X-WR-CALNAME:Panel Expertos
X-ORIGINAL-URL:https://panelexpertos.cl
X-WR-CALDESC:Eventos para Panel Expertos
BEGIN:VEVENT
DTSTART;TZID=UTC-3:20230420T090000
DTEND;TZID=UTC-3:20230420T130000
DTSTAMP:20260421T040344
CREATED:20240614T155301Z
LAST-MODIFIED:20240614T155301Z
UID:3241-1681981200-1681995600@panelexpertos.cl
SUMMARY:Sesión Especial
DESCRIPTION:
URL:https://panelexpertos.cl/sesion/sesion-especial-298/
END:VEVENT
END:VCALENDAR