BEGIN:VCALENDAR
VERSION:2.0
PRODID:-//Panel Expertos - ECPv4.7.3//NONSGML v1.0//EN
CALSCALE:GREGORIAN
METHOD:PUBLISH
X-WR-CALNAME:Panel Expertos
X-ORIGINAL-URL:https://panelexpertos.cl
X-WR-CALDESC:Eventos para Panel Expertos
BEGIN:VEVENT
DTSTART;TZID=UTC-3:20230901T090000
DTEND;TZID=UTC-3:20230901T130000
DTSTAMP:20260420T181850
CREATED:20240614T160029Z
LAST-MODIFIED:20240614T160029Z
UID:3269-1693558800-1693573200@panelexpertos.cl
SUMMARY:Sesión Especial
DESCRIPTION:
URL:https://panelexpertos.cl/sesion/sesion-especial-312/
END:VEVENT
END:VCALENDAR