BEGIN:VCALENDAR
VERSION:2.0
PRODID:-//Panel Expertos - ECPv4.7.3//NONSGML v1.0//EN
CALSCALE:GREGORIAN
METHOD:PUBLISH
X-WR-CALNAME:Panel Expertos
X-ORIGINAL-URL:https://panelexpertos.cl
X-WR-CALDESC:Eventos para Panel Expertos
BEGIN:VEVENT
DTSTART;TZID=UTC-3:20231117T090000
DTEND;TZID=UTC-3:20231117T130000
DTSTAMP:20260420T145844
CREATED:20240614T160259Z
LAST-MODIFIED:20240614T160259Z
UID:3281-1700211600-1700226000@panelexpertos.cl
SUMMARY:Sesión Especial
DESCRIPTION:
URL:https://panelexpertos.cl/sesion/sesion-especial-318/
END:VEVENT
END:VCALENDAR