BEGIN:VCALENDAR
VERSION:2.0
PRODID:-//Panel Expertos - ECPv4.7.3//NONSGML v1.0//EN
CALSCALE:GREGORIAN
METHOD:PUBLISH
X-WR-CALNAME:Panel Expertos
X-ORIGINAL-URL:https://panelexpertos.cl
X-WR-CALDESC:Eventos para Panel Expertos
BEGIN:VEVENT
DTSTART;TZID=UTC-3:20240724T150000
DTEND;TZID=UTC-3:20240724T180000
DTSTAMP:20260420T012847
CREATED:20240627T155758Z
LAST-MODIFIED:20240723T155001Z
UID:3317-1721833200-1721844000@panelexpertos.cl
SUMMARY:Sesión Especial
DESCRIPTION:
URL:https://panelexpertos.cl/sesion/sesion-especial-329/
END:VEVENT
END:VCALENDAR