BEGIN:VCALENDAR
VERSION:2.0
PRODID:-//Panel Expertos - ECPv4.7.3//NONSGML v1.0//EN
CALSCALE:GREGORIAN
METHOD:PUBLISH
X-WR-CALNAME:Panel Expertos
X-ORIGINAL-URL:https://panelexpertos.cl
X-WR-CALDESC:Eventos para Panel Expertos
BEGIN:VEVENT
DTSTART;TZID=UTC-3:20240821T090000
DTEND;TZID=UTC-3:20240821T130000
DTSTAMP:20260419T231907
CREATED:20240730T151823Z
LAST-MODIFIED:20240730T151828Z
UID:3367-1724230800-1724245200@panelexpertos.cl
SUMMARY:Sesión Especial
DESCRIPTION:
URL:https://panelexpertos.cl/sesion/sesion-especial-336/
END:VEVENT
END:VCALENDAR