BEGIN:VCALENDAR
VERSION:2.0
PRODID:-//Panel Expertos - ECPv4.7.3//NONSGML v1.0//EN
CALSCALE:GREGORIAN
METHOD:PUBLISH
X-WR-CALNAME:Panel Expertos
X-ORIGINAL-URL:https://panelexpertos.cl
X-WR-CALDESC:Eventos para Panel Expertos
BEGIN:VEVENT
DTSTART;TZID=UTC-3:20240823T090000
DTEND;TZID=UTC-3:20240823T130000
DTSTAMP:20260419T232136
CREATED:20240823T125236Z
LAST-MODIFIED:20240823T125241Z
UID:3408-1724403600-1724418000@panelexpertos.cl
SUMMARY:Sesión Especial
DESCRIPTION:
URL:https://panelexpertos.cl/sesion/sesion-especial-341/
END:VEVENT
END:VCALENDAR