BEGIN:VCALENDAR
VERSION:2.0
PRODID:-//Panel Expertos - ECPv4.7.3//NONSGML v1.0//EN
CALSCALE:GREGORIAN
METHOD:PUBLISH
X-WR-CALNAME:Panel Expertos
X-ORIGINAL-URL:https://panelexpertos.cl
X-WR-CALDESC:Eventos para Panel Expertos
BEGIN:VEVENT
DTSTART;TZID=UTC-3:20241009T090000
DTEND;TZID=UTC-3:20241009T130000
DTSTAMP:20260419T203856
CREATED:20240926T123808Z
LAST-MODIFIED:20240926T123808Z
UID:3483-1728464400-1728478800@panelexpertos.cl
SUMMARY:Sesión Especial
DESCRIPTION:
URL:https://panelexpertos.cl/sesion/sesion-especial-346/
END:VEVENT
END:VCALENDAR