BEGIN:VCALENDAR
VERSION:2.0
PRODID:-//Panel Expertos - ECPv4.7.3//NONSGML v1.0//EN
CALSCALE:GREGORIAN
METHOD:PUBLISH
X-WR-CALNAME:Panel Expertos
X-ORIGINAL-URL:https://panelexpertos.cl
X-WR-CALDESC:Eventos para Panel Expertos
BEGIN:VEVENT
DTSTART;TZID=UTC-3:20241022T113000
DTEND;TZID=UTC-3:20241022T130000
DTSTAMP:20260419T203048
CREATED:20241022T143401Z
LAST-MODIFIED:20241022T143447Z
UID:3506-1729596600-1729602000@panelexpertos.cl
SUMMARY:Sesión Especial
DESCRIPTION:
URL:https://panelexpertos.cl/sesion/sesion-especial-351/
END:VEVENT
END:VCALENDAR