BEGIN:VCALENDAR
VERSION:2.0
PRODID:-//Panel Expertos - ECPv4.7.3//NONSGML v1.0//EN
CALSCALE:GREGORIAN
METHOD:PUBLISH
X-WR-CALNAME:Panel Expertos
X-ORIGINAL-URL:https://panelexpertos.cl
X-WR-CALDESC:Eventos para Panel Expertos
BEGIN:VEVENT
DTSTART;TZID=UTC-3:20250115T090000
DTEND;TZID=UTC-3:20250115T130000
DTSTAMP:20260419T150708
CREATED:20241217T113148Z
LAST-MODIFIED:20241217T113148Z
UID:3579-1736931600-1736946000@panelexpertos.cl
SUMMARY:Sesión Especial
DESCRIPTION:
URL:https://panelexpertos.cl/sesion/sesion-especial-363/
END:VEVENT
END:VCALENDAR