BEGIN:VCALENDAR
VERSION:2.0
PRODID:-//Panel Expertos - ECPv4.7.3//NONSGML v1.0//EN
CALSCALE:GREGORIAN
METHOD:PUBLISH
X-WR-CALNAME:Panel Expertos
X-ORIGINAL-URL:https://panelexpertos.cl
X-WR-CALDESC:Eventos para Panel Expertos
BEGIN:VEVENT
DTSTART;TZID=UTC-3:20250122T090000
DTEND;TZID=UTC-3:20250122T130000
DTSTAMP:20260419T165931
CREATED:20241217T113328Z
LAST-MODIFIED:20241217T113328Z
UID:3581-1737536400-1737550800@panelexpertos.cl
SUMMARY:Sesión Especial
DESCRIPTION:
URL:https://panelexpertos.cl/sesion/sesion-especial-364/
END:VEVENT
END:VCALENDAR