BEGIN:VCALENDAR
VERSION:2.0
PRODID:-//Panel Expertos - ECPv4.7.3//NONSGML v1.0//EN
CALSCALE:GREGORIAN
METHOD:PUBLISH
X-WR-CALNAME:Panel Expertos
X-ORIGINAL-URL:https://panelexpertos.cl
X-WR-CALDESC:Eventos para Panel Expertos
BEGIN:VEVENT
DTSTART;TZID=UTC-3:20241220T150000
DTEND;TZID=UTC-3:20241220T173000
DTSTAMP:20260419T182411
CREATED:20241223T134927Z
LAST-MODIFIED:20241223T134932Z
UID:3587-1734706800-1734715800@panelexpertos.cl
SUMMARY:Sesión Especial
DESCRIPTION:
URL:https://panelexpertos.cl/sesion/sesion-especial-366/
END:VEVENT
END:VCALENDAR