BEGIN:VCALENDAR
VERSION:2.0
PRODID:-//Panel Expertos - ECPv4.7.3//NONSGML v1.0//EN
CALSCALE:GREGORIAN
METHOD:PUBLISH
X-WR-CALNAME:Panel Expertos
X-ORIGINAL-URL:https://panelexpertos.cl
X-WR-CALDESC:Eventos para Panel Expertos
BEGIN:VEVENT
DTSTART;TZID=UTC-3:20250102T090000
DTEND;TZID=UTC-3:20250102T123000
DTSTAMP:20260419T163401
CREATED:20241230T154729Z
LAST-MODIFIED:20241230T154735Z
UID:3596-1735808400-1735821000@panelexpertos.cl
SUMMARY:Sesión Especial
DESCRIPTION:
URL:https://panelexpertos.cl/sesion/sesion-especial-368/
END:VEVENT
END:VCALENDAR