BEGIN:VCALENDAR
VERSION:2.0
PRODID:-//Panel Expertos - ECPv4.7.3//NONSGML v1.0//EN
CALSCALE:GREGORIAN
METHOD:PUBLISH
X-WR-CALNAME:Panel Expertos
X-ORIGINAL-URL:https://panelexpertos.cl
X-WR-CALDESC:Eventos para Panel Expertos
BEGIN:VEVENT
DTSTART;TZID=UTC-3:20250120T150000
DTEND;TZID=UTC-3:20250120T173000
DTSTAMP:20260419T152643
CREATED:20250106T155354Z
LAST-MODIFIED:20250106T170834Z
UID:3602-1737385200-1737394200@panelexpertos.cl
SUMMARY:Sesión Especial
DESCRIPTION:
URL:https://panelexpertos.cl/sesion/sesion-especial-369/
END:VEVENT
END:VCALENDAR