BEGIN:VCALENDAR
VERSION:2.0
PRODID:-//Panel Expertos - ECPv4.7.3//NONSGML v1.0//EN
CALSCALE:GREGORIAN
METHOD:PUBLISH
X-WR-CALNAME:Panel Expertos
X-ORIGINAL-URL:https://panelexpertos.cl
X-WR-CALDESC:Eventos para Panel Expertos
BEGIN:VEVENT
DTSTART;TZID=UTC-3:20250328T090000
DTEND;TZID=UTC-3:20250328T130000
DTSTAMP:20260419T122425
CREATED:20250326T140841Z
LAST-MODIFIED:20250326T140847Z
UID:3726-1743152400-1743166800@panelexpertos.cl
SUMMARY:Sesión Especial
DESCRIPTION:
URL:https://panelexpertos.cl/sesion/sesion-especial-378/
END:VEVENT
END:VCALENDAR