BEGIN:VCALENDAR
VERSION:2.0
PRODID:-//Panel Expertos - ECPv4.7.3//NONSGML v1.0//EN
CALSCALE:GREGORIAN
METHOD:PUBLISH
X-WR-CALNAME:Panel Expertos
X-ORIGINAL-URL:https://panelexpertos.cl
X-WR-CALDESC:Eventos para Panel Expertos
BEGIN:VEVENT
DTSTART;TZID=UTC-3:20250228T090000
DTEND;TZID=UTC-3:20250228T130000
DTSTAMP:20260419T121121
CREATED:20250225T152628Z
LAST-MODIFIED:20250225T152633Z
UID:3683-1740733200-1740747600@panelexpertos.cl
SUMMARY:Sesión Especial
DESCRIPTION:
URL:https://panelexpertos.cl/sesion/sesion-especial-380/
END:VEVENT
END:VCALENDAR