BEGIN:VCALENDAR
VERSION:2.0
PRODID:-//Panel Expertos - ECPv4.7.3//NONSGML v1.0//EN
CALSCALE:GREGORIAN
METHOD:PUBLISH
X-WR-CALNAME:Panel Expertos
X-ORIGINAL-URL:https://panelexpertos.cl
X-WR-CALDESC:Eventos para Panel Expertos
BEGIN:VEVENT
DTSTART;TZID=UTC-3:20250423T150000
DTEND;TZID=UTC-3:20250423T173000
DTSTAMP:20260421T085652
CREATED:20250319T135915Z
LAST-MODIFIED:20250319T135920Z
UID:3714-1745420400-1745429400@panelexpertos.cl
SUMMARY:Sesión Especial
DESCRIPTION:
URL:https://panelexpertos.cl/sesion/sesion-especial-387/
END:VEVENT
END:VCALENDAR