BEGIN:VCALENDAR
VERSION:2.0
PRODID:-//Panel Expertos - ECPv4.7.3//NONSGML v1.0//EN
CALSCALE:GREGORIAN
METHOD:PUBLISH
X-WR-CALNAME:Panel Expertos
X-ORIGINAL-URL:https://panelexpertos.cl
X-WR-CALDESC:Eventos para Panel Expertos
BEGIN:VEVENT
DTSTART;TZID=UTC-3:20230103T160000
DTEND;TZID=UTC-3:20230103T170000
DTSTAMP:20260421T073653
CREATED:20240614T160656Z
LAST-MODIFIED:20240614T160656Z
UID:3295-1672761600-1672765200@panelexpertos.cl
SUMMARY:Sesión Ordinaria
DESCRIPTION:
URL:https://panelexpertos.cl/sesion/sesion-ordinaria-28/
END:VEVENT
END:VCALENDAR