BEGIN:VCALENDAR
VERSION:2.0
PRODID:-//Panel Expertos - ECPv4.7.3//NONSGML v1.0//EN
CALSCALE:GREGORIAN
METHOD:PUBLISH
X-WR-CALNAME:Panel Expertos
X-ORIGINAL-URL:https://panelexpertos.cl
X-WR-CALDESC:Eventos para Panel Expertos
BEGIN:VEVENT
DTSTART;TZID=UTC-3:20230929T090000
DTEND;TZID=UTC-3:20230929T100000
DTSTAMP:20260420T182135
CREATED:20240614T160753Z
LAST-MODIFIED:20240614T160753Z
UID:3299-1695978000-1695981600@panelexpertos.cl
SUMMARY:Sesión Ordinaria
DESCRIPTION:
URL:https://panelexpertos.cl/sesion/sesion-ordinaria-30/
END:VEVENT
END:VCALENDAR