BEGIN:VCALENDAR
VERSION:2.0
PRODID:-//Panel Expertos - ECPv4.7.3//NONSGML v1.0//EN
CALSCALE:GREGORIAN
METHOD:PUBLISH
X-WR-CALNAME:Panel Expertos
X-ORIGINAL-URL:https://panelexpertos.cl
X-WR-CALDESC:Eventos para Panel Expertos
BEGIN:VEVENT
DTSTART;TZID=UTC-3:20231212T110000
DTEND;TZID=UTC-3:20231212T120000
DTSTAMP:20260420T144409
CREATED:20240614T160821Z
LAST-MODIFIED:20240614T160821Z
UID:3301-1702378800-1702382400@panelexpertos.cl
SUMMARY:Sesión Ordinaria
DESCRIPTION:
URL:https://panelexpertos.cl/sesion/sesion-ordinaria-31/
END:VEVENT
END:VCALENDAR