BEGIN:VCALENDAR
VERSION:2.0
PRODID:-//Panel Expertos - ECPv4.7.3//NONSGML v1.0//EN
CALSCALE:GREGORIAN
METHOD:PUBLISH
X-WR-CALNAME:Panel Expertos
X-ORIGINAL-URL:https://panelexpertos.cl
X-WR-CALDESC:Eventos para Panel Expertos
BEGIN:VEVENT
DTSTART;TZID=UTC-3:20240726T090000
DTEND;TZID=UTC-3:20240726T123000
DTSTAMP:20260420T013020
CREATED:20240725T132047Z
LAST-MODIFIED:20240725T132052Z
UID:3348-1721984400-1721997000@panelexpertos.cl
SUMMARY:Sesión Ordinaria
DESCRIPTION:
URL:https://panelexpertos.cl/sesion/sesion-ordinaria-33/
END:VEVENT
END:VCALENDAR