BEGIN:VCALENDAR
VERSION:2.0
PRODID:-//Panel Expertos - ECPv4.7.3//NONSGML v1.0//EN
CALSCALE:GREGORIAN
METHOD:PUBLISH
X-WR-CALNAME:Panel Expertos
X-ORIGINAL-URL:https://panelexpertos.cl
X-WR-CALDESC:Eventos para Panel Expertos
BEGIN:VEVENT
DTSTART;TZID=UTC-3:20210809T090000
DTEND;TZID=UTC-3:20210809T130000
DTSTAMP:20260422T100211
CREATED:20210629T133554Z
LAST-MODIFIED:20210629T133554Z
UID:1874-1628499600-1628514000@panelexpertos.cl
SUMMARY:Sesión Ordinaria y Especial
DESCRIPTION:
URL:https://panelexpertos.cl/sesion/sesion-ordinaria-y-especial-101/
END:VEVENT
END:VCALENDAR