BEGIN:VCALENDAR
VERSION:2.0
PRODID:-//Panel Expertos - ECPv4.7.3//NONSGML v1.0//EN
CALSCALE:GREGORIAN
METHOD:PUBLISH
X-WR-CALNAME:Panel Expertos
X-ORIGINAL-URL:https://panelexpertos.cl
X-WR-CALDESC:Eventos para Panel Expertos
BEGIN:VEVENT
DTSTART;TZID=UTC-3:20211213T090000
DTEND;TZID=UTC-3:20211213T130000
DTSTAMP:20260422T033337
CREATED:20220222T112434Z
LAST-MODIFIED:20220222T112434Z
UID:2020-1639386000-1639400400@panelexpertos.cl
SUMMARY:Sesión Ordinaria y Especial
DESCRIPTION:
URL:https://panelexpertos.cl/sesion/sesion-ordinaria-y-especial-119/
END:VEVENT
END:VCALENDAR