BEGIN:VCALENDAR
VERSION:2.0
PRODID:-//Panel Expertos - ECPv4.7.3//NONSGML v1.0//EN
CALSCALE:GREGORIAN
METHOD:PUBLISH
X-WR-CALNAME:Panel Expertos
X-ORIGINAL-URL:https://panelexpertos.cl
X-WR-CALDESC:Eventos para Panel Expertos
BEGIN:VEVENT
DTSTART;TZID=UTC-3:20221003T090000
DTEND;TZID=UTC-3:20221003T130000
DTSTAMP:20260421T115358
CREATED:20220714T123556Z
LAST-MODIFIED:20220714T123556Z
UID:2290-1664787600-1664802000@panelexpertos.cl
SUMMARY:Sesión Ordinaria y Especial
DESCRIPTION:
URL:https://panelexpertos.cl/sesion/sesion-ordinaria-y-especial-160/
END:VEVENT
END:VCALENDAR