BEGIN:VCALENDAR
VERSION:2.0
PRODID:-//Panel Expertos - ECPv4.7.3//NONSGML v1.0//EN
CALSCALE:GREGORIAN
METHOD:PUBLISH
X-WR-CALNAME:Panel Expertos
X-ORIGINAL-URL:https://panelexpertos.cl
X-WR-CALDESC:Eventos para Panel Expertos
BEGIN:VEVENT
DTSTART;TZID=UTC-3:20221114T090000
DTEND;TZID=UTC-3:20221114T130000
DTSTAMP:20260421T102503
CREATED:20220822T140032Z
LAST-MODIFIED:20220822T140032Z
UID:2331-1668416400-1668430800@panelexpertos.cl
SUMMARY:Sesión Ordinaria y Especial
DESCRIPTION:
URL:https://panelexpertos.cl/sesion/sesion-ordinaria-y-especial-164/
END:VEVENT
END:VCALENDAR