BEGIN:VCALENDAR
VERSION:2.0
PRODID:-//Panel Expertos - ECPv4.7.3//NONSGML v1.0//EN
CALSCALE:GREGORIAN
METHOD:PUBLISH
X-WR-CALNAME:Panel Expertos
X-ORIGINAL-URL:https://panelexpertos.cl
X-WR-CALDESC:Eventos para Panel Expertos
BEGIN:VEVENT
DTSTART;TZID=UTC-3:20221116T090000
DTEND;TZID=UTC-3:20221116T130000
DTSTAMP:20260421T103456
CREATED:20220822T140446Z
LAST-MODIFIED:20220822T140531Z
UID:2347-1668589200-1668603600@panelexpertos.cl
SUMMARY:Sesión Especial
DESCRIPTION:
URL:https://panelexpertos.cl/sesion/sesion-ordinaria-y-especial-171/
END:VEVENT
END:VCALENDAR